BEGIN:VCALENDAR
VERSION:2.0
PRODID:-//Tazewell County ETSB - ECPv5.16.0//NONSGML v1.0//EN
CALSCALE:GREGORIAN
METHOD:PUBLISH
X-WR-CALNAME:Tazewell County ETSB
X-ORIGINAL-URL:https://www.tazewell911.com
X-WR-CALDESC:Events for Tazewell County ETSB
REFRESH-INTERVAL;VALUE=DURATION:PT1H
X-Robots-Tag:noindex
X-PUBLISHED-TTL:PT1H
BEGIN:VTIMEZONE
TZID:America/Chicago
BEGIN:DAYLIGHT
TZOFFSETFROM:-0600
TZOFFSETTO:-0500
TZNAME:CDT
DTSTART:20200308T080000
END:DAYLIGHT
BEGIN:STANDARD
TZOFFSETFROM:-0500
TZOFFSETTO:-0600
TZNAME:CST
DTSTART:20201101T070000
END:STANDARD
BEGIN:DAYLIGHT
TZOFFSETFROM:-0600
TZOFFSETTO:-0500
TZNAME:CDT
DTSTART:20210314T080000
END:DAYLIGHT
BEGIN:STANDARD
TZOFFSETFROM:-0500
TZOFFSETTO:-0600
TZNAME:CST
DTSTART:20211107T070000
END:STANDARD
END:VTIMEZONE
BEGIN:VEVENT
DTSTART;TZID=America/Chicago:20200415T150000
DTEND;TZID=America/Chicago:20200415T160000
DTSTAMP:20260420T202312
CREATED:20200408T205030Z
LAST-MODIFIED:20200408T205207Z
UID:767-1586962800-1586966400@www.tazewell911.com
SUMMARY:Virtual Meeting of the Tazewell County ETSB
DESCRIPTION:Agenda
URL:https://www.tazewell911.com/event/virtual-meeting-of-the-tazewell-county-etsb/
LOCATION:Virtual Meeting
ORGANIZER;CN="Tazewell%20County%20ETSB":MAILTO:911helpdesk@tazewell911.com
END:VEVENT
BEGIN:VEVENT
DTSTART;TZID=America/Chicago:20200520T130000
DTEND;TZID=America/Chicago:20200520T150000
DTSTAMP:20260420T202312
CREATED:20200518T175428Z
LAST-MODIFIED:20200518T175628Z
UID:775-1589979600-1589986800@www.tazewell911.com
SUMMARY:Meeting of the Tazewell County ETSB
DESCRIPTION:Agenda: ETSB Agenda
URL:https://www.tazewell911.com/event/meeting-of-the-tazewell-county-etsb-29/
LOCATION:Virtual Meeting
ORGANIZER;CN="Tazewell%20County%20ETSB":MAILTO:911helpdesk@tazewell911.com
END:VEVENT
BEGIN:VEVENT
DTSTART;TZID=America/Chicago:20200617T150000
DTEND;TZID=America/Chicago:20200617T163000
DTSTAMP:20260420T202312
CREATED:20200616T045343Z
LAST-MODIFIED:20200616T045454Z
UID:782-1592406000-1592411400@www.tazewell911.com
SUMMARY:Regular Meeting of the Tazewell County ETSB
DESCRIPTION:Click for: Agenda
URL:https://www.tazewell911.com/event/regular-meeting-of-the-tazewell-county-etsb/
LOCATION:Virtual Meeting
ORGANIZER;CN="Tazewell%20County%20ETSB":MAILTO:911helpdesk@tazewell911.com
END:VEVENT
BEGIN:VEVENT
DTSTART;TZID=America/Chicago:20201216T150000
DTEND;TZID=America/Chicago:20201216T180000
DTSTAMP:20260420T202312
CREATED:20201214T223615Z
LAST-MODIFIED:20201214T225145Z
UID:833-1608130800-1608141600@www.tazewell911.com
SUMMARY:Virtual Meeting of the Tazewell County Emergency System Board
DESCRIPTION:Click for Agenda: ETSB Agenda \nGOTO MEETING \nClick below link to connect to meeting from your computer\, tablet or smartphone.\nhttps://global.gotomeeting.com/join/398737069  \nYou can also dial in using your phone. (For supported devices\, tap a one-touch number below to join instantly.)\nUnited States (Toll Free): 1 877 568 4106 – One-touch: tel:+18775684106\,\,398737069#\nUnited States: +1 (646) 749-3129 – One-touch: tel:+16467493129\,\,398737069#\nAccess Code: 398-737-069
URL:https://www.tazewell911.com/event/virtual-meeting-of-the-tazewell-county-emergency-system-board/
LOCATION:Virtual Meeting
ORGANIZER;CN="Tazewell%20County%20ETSB":MAILTO:911helpdesk@tazewell911.com
END:VEVENT
BEGIN:VEVENT
DTSTART;TZID=America/Chicago:20201222T140000
DTEND;TZID=America/Chicago:20201222T170000
DTSTAMP:20260420T202312
CREATED:20201218T231132Z
LAST-MODIFIED:20201218T231325Z
UID:843-1608645600-1608656400@www.tazewell911.com
SUMMARY:Special Meeting of the Tazewell County ETSB
DESCRIPTION:Click for Agenda: Special Meeting Agenda
URL:https://www.tazewell911.com/event/special-meeting-of-the-tazewell-county-etsb-9/
LOCATION:Virtual Meeting
ORGANIZER;CN="Tazewell%20County%20ETSB":MAILTO:911helpdesk@tazewell911.com
END:VEVENT
BEGIN:VEVENT
DTSTART;TZID=America/Chicago:20210120T150000
DTEND;TZID=America/Chicago:20210120T160000
DTSTAMP:20260420T202312
CREATED:20210118T205233Z
LAST-MODIFIED:20210118T212212Z
UID:855-1611154800-1611158400@www.tazewell911.com
SUMMARY:Regular Meeting of the Tazewell County ETSB
DESCRIPTION:Click for Agenda: Regular Meeting of the Tazewell County ETSB\n \nRegular Meeting\nTime: Wednesday January 20th\, 2021 3:00 PM Location: Virtual GoTo Meeting\nETSB Regular Meeting\nWed\, Jan 20\, 2021 3:00 PM – 5:00 PM (CST)\nPlease join my meeting from your computer\, tablet or smartphone.\n \n\nhttps://global.gotomeeting.com/join/852257437\n \n\nYou can also dial in using your phone.\nUnited States (Toll Free): 1 866 899 4679\nUnited States: +1 (571) 317-3116\nAccess Code: 852-257-437
URL:https://www.tazewell911.com/event/meeting-of-the-tazewell-county-etsb-33/
LOCATION:Virtual Meeting
ORGANIZER;CN="Tazewell%20County%20ETSB":MAILTO:911helpdesk@tazewell911.com
END:VEVENT
END:VCALENDAR